0.304889741131352
0.000000000000000
0.000000000000000
-0.304904993371631
6470323.260000000000000
5620706.656000000000000
